BEGIN:VCALENDAR
VERSION:2.0
PRODID:-//wp-events-plugin.com//7.2.3.1//EN
TZID:Europe/Berlin
X-WR-TIMEZONE:Europe/Berlin
BEGIN:VEVENT
UID:6@sozialezukunftswerkstatt.de
DTSTART;TZID=Europe/Berlin:20250612T090000
DTEND;TZID=Europe/Berlin:20250612T150000
DTSTAMP:20250528T080106Z
URL:https://sozialezukunftswerkstatt.de/events/workshop-liberating-structu
 res/
SUMMARY:Workshop | Liberating Structures
DESCRIPTION:Oft ist es eine Herausforderung\, in Gruppen wirklich alle Stim
 men zu hören\, ihnen den nötigen Raum zu geben und das volle Potenzial d
 er investierten Zeit und Energie zu entfalten. Liberating Structures biete
 n dafür einen wirkungsvollen Ansatz.
ATTACH;FMTTYPE=image/jpeg:https://sozialezukunftswerkstatt.de/wp-content/u
 ploads/2025/03/Sharepic-Liberating-Structures-Webseite.png
LOCATION:Lichthaus\, Dreyhauptstraße 3\, Halle (Saale)\, 06108\, Deutschla
 nd
GEO:51.480712;11.966928
X-APPLE-STRUCTURED-LOCATION;VALUE=URI;X-ADDRESS=Dreyhauptstraße 3\, Halle 
 (Saale)\, 06108\, Deutschland;X-APPLE-RADIUS=100;X-TITLE=Lichthaus:geo:51.
 480712,11.966928
END:VEVENT
BEGIN:VTIMEZONE
TZID:Europe/Berlin
X-LIC-LOCATION:Europe/Berlin
BEGIN:DAYLIGHT
DTSTART:20250330T030000
TZOFFSETFROM:+0100
TZOFFSETTO:+0200
TZNAME:CEST
END:DAYLIGHT
END:VTIMEZONE
END:VCALENDAR